Workbook
Name _Hlk177992892: 'PAA VR24 2026 UAECOB BCS'!#REF!
Name Sec_Prog_MGA: #REF!

Sheet TD PAA Vr 24
A2: Proyecto y nombre Asociado | B2: (Todas)
A4: Etiquetas de fila | B4: Suma de Valor apropiacion vigencia actual
A5: BS | B5: 57649476604
A6: TH | B6: 3.2186983e+10
A7: Total general | B7: 89836459783
A10: tipo de Contrato (TH talento humano - B/S bienes y/o servicios) | B10: (Todas)
A11: Proyecto y nombre Asociado | B11: (Varios elementos)
A13: Etiquetas de fila | B13: Suma de Valor apropiacion vigencia actual
A14: 1-100-F001 VA-Recursos distrito | B14: 213419000
A15: 1-100-F039-VA-Crédito | B15: 8000000000
A16: 1-100-I087 VA-Sobretasa Bomberil | B16: 52447486864
A17: 1-601-F001 PAS-Otros distrito | B17: 359496136
A18: 1-601-I037 PAS-Crédito | B18: 6914369000
A19: Total general | B19: 67934771000
A44: tipo de Contrato (TH talento humano - B/S bienes y/o servicios) | B44: (Todas)
A45: Proyecto y nombre Asociado | B45: (Todas)
A47: Etiquetas de fila | B47: Dependencia Solicitante | C47: Fuente de Recursos | D47: POSPRE
A48: N/AN/A | B48: Sub. Gestión Humana | C48: N/A | D48: No Aplica
A49: NANANAN/AN/A | B49: Dirección Tic | C49: 1-100-F001 VA-Recursos distrito | D49: No Aplica
A50: NANANAN/AN/A | B50: Dirección Tic | C50: 1-100-F001 VA-Recursos distrito | D50: O21202020080383141 Servicios de diseño y desarrollo de aplicaciones en tecnologías de la información (TI)
A51: NANANAN/AN/A | B51: Dirección Tic | C51: 1-100-F001 VA-Recursos distrito | D51: O21202020080484290 Otros servicios de telecomunicaciones vía Internet
A52: NANANAN/AN/A | B52: Dirección Tic | C52: 1-100-F001 VA-Recursos distrito | D52: O21202020080787130 Servicios de mantenimiento y reparación de computa
A53: NANANAN/AN/A | B53: Oficina Juridica | C53: 1-100-F001 VA-Recursos distrito | D53: No Aplica
A54: NANANAN/AN/A | B54: Sub. Gestión Corporativa | C54: 1-100-F001 VA-Recursos distrito | D54: No Aplica
A55: NANANAN/AN/A | B55: Sub. Gestión Humana | C55: 1-100-F001 VA-Recursos distrito | D55: No Aplica
A56: NANANAN/AN/A | B56: Sub. Logística | C56: 1-100-F001 VA-Recursos distrito | D56: No Aplica
A57: NANANAN/AN/A | B57: Sub. Operativa | C57: 1-100-F001 VA-Recursos distrito | D57: O2120201002082823609 Uniformes de trabajo
A58: O23011745032024025504004 | B58: Sub. Operativa | C58: 1-100-I087 VA-Sobretasa Bomberil | D58: O232020200663111 Servicios de alojamiento en hoteles
... A149: O23011745992024020713031 | B149: Oficina Asesora de Planeación congelamiento | C149: 1-100-I087 VA-Sobretasa Bomberil | D149: O232020200991191 Servicios administrativos relacionados con los trabajadores estatales
A150: Total general

Sheet PAA VR24 2026 UAECOB BCS
F3: UNIDAD ADMINISTRATIVA ESPECIAL CUERPO OFICIAL DE BOMBEROS DE BOGOTÁ D.C. | N3: VIGENCIA: | O3: 2026
F4: NIT: 899.999.061-9
F5: PLAN ANUAL DE ADQUISICIONES 2026 | N5: PRESUPUESTO ASIGNADO INVERSION PROY 8126 | Q5: =IFERROR(SUMIF($N$12:$N$1036,"8126-Fortalecimiento institucional de la UAECOB para un gobierno confiable Bogotá D.C.",PAA[Valor apropiacion vigencia actual]),0) -> 25167465000 | R5: PRESUPUESTO FUNCIONAMIENTO PAA | U5: =IFERROR(SUMIF($N$12:$N$1036,"131- Funcionamiento",PAA[Valor apropiacion vigencia actual]),0) -> 21656617039 | V5: 25167465000 | W5: =Q5-V5 -> 0
F6: Versión No. 24 - PLAN DISTRITAL DE DESARROLLO "BOGOTÁ CAMINA SEGURA" | N6: PRESUPUESTO ASIGNADO INVERSION PROY 8173 | Q6: =IFERROR(SUMIF($N$12:$N$1036,"8173-Modernización de las capacidades del Cuerpo Oficial de Bomberos Bogotá D.C.",PAA[Valor apropiacion vigencia actual]),0) -> 42767306000 | V6: 42767306000 | W6: =Q6-V6 -> 0
F7: Fecha de elaboracion: 08/10/2026
N8: TOTAL PRESUPUESTO PAA INVERSION | O8: =+Q5+Q6 -> 67934771000 | Q8: TOTAL PRESUPUESTO PAA | R8: =+U5+O8 -> 89591388039
B11: Id Interno | C11: Objeto de la contratación | D11: Modalidad de Selección | E11: tipo de Contrato (TH talento humano - B/S bienes y/o servicios) | F11: Tipo de Contratación | G11: Mes estimado de inicio de ejecución | H11: plazo ejec Meses | I11: mas plazo ejec Días (si aplica) | J11: Valor apropiacion vigencia actual | K11: ¿vigencia futuras? | L11: Dependencia Solicitante | M11: Responsable del Proceso | N11: Proyecto y nombre Asociado | O11: Gerente del Proyecto Asociado | P11: Fuente de Recursos | Q11: Código UNSPSC (cada código separado por ;) | R11: Meta Proyecto de Inversión | S11: meta objeto | T11: meta objeto2 | U11: Bogotá camina segura | V11: Sector_Programa MGA | W11: BPIN (AÑO+COD_PROYECTO) | X11: Producto PMR | Y11: Descripción Producto PMR | Z11: PMR conca | AA11: Producto MGA | AB11: Descripción Producto MGA | AC11: concatenarMGA | AD11: PM MGA conca | AE11: Código de proyecto de inversión, asociado a productos PMR y MGA | AF11: codigo PEP | AG11: POSPRE | AH11: Si Secop / No Secop | AI11: Objeto de contratacion CDP
B12: 20260052 | C12: Contratar la suscripción de licencias Suite Adobe para la UAE Cuerpo Oficial de Bomberos de Bogotá-TIC | D12: 17 - acuerdo marco de precios | E12: BS | F12: 19 - contrato de renovacion de licencias | G12: SEPTIEMBRE | H12: 12 | I12: 0 | J12: 33670032 | K12: NO | L12: Dirección Tic | M12: Paula Ximena Henao Escobar | N12: 131- Funcionamiento | O12: Subdirector@ de Gestión Corporativa | P12: 1-100-F001 VA-Recursos distrito | Q12: 81112501;43232102;43232103;43231512 | R12: No aplica | S12: =MID(PAA[[#This Row],[Meta Proyecto de Inversión]],1,4) -> No a | T12: =MID(PAA[[#This Row],[Meta Proyecto de Inversión]],6,2) -> li | U12: =IFERROR(VLOOKUP(N12,TD!$B$54:$F$58,2,0)," ") -> NA | V12: =IFERROR(VLOOKUP(N12,TD!$B$54:$F$58,3,0)," ") -> NA | W12: =IFERROR(VLOOKUP(N12,TD!$B$54:$F$58,4,0)," ") -> NA | X12: N/A | Y12: =IFERROR(VLOOKUP(X12,TD!$J$55:$K$68,2,0)," ") -> N/A | Z12: =CONCATENATE(X12,"-",Y12) -> N/A-N/A | AA12: N/A | AB12: =IFERROR(VLOOKUP(AA12,TD!$N$55:$O$70,2,0)," ") -> N/A | AC12: =CONCATENATE(AA12,"_",AB12) -> N/A_N/A | AD12: =CONCATENATE(Z12," ",AC12) -> N/A-N/A N/A_N/A | AE12: =CONCATENATE(U12,V12,W12,X12,AA12) -> NANANAN/AN/A | AF12: =IFERROR(VLOOKUP(AD12,TD!$J$70:$K$93,2,0)," ") -> N/A | AG12: O21202020080383141 Servicios de diseño y desarrollo de aplicaciones en tecnologías de la información (TI) | AH12: Si Secop | AI12: =CONCATENATE(PAA[[#This Row],[Id Interno]],"-",PAA[[#This Row],[tipo de Contrato (TH talento humano - B/S bienes y/o servicios)]],"-",S12,"-",T12,"-",PAA[[#This Row],[Objeto de la contratación]]) -> 20260052-BS-No a-li-Contratar la suscripción de licencias Suite Adobe para la UAE Cuerpo Oficial de Bomberos de Bogotá-TIC
B13: 20260195 | C13: SGH - Adquirir elementos de protección personal para prevenir la aparición de enfermedades ocupacionales en el oido, de los funcionarios de la UAE Cuerpo Oficial de Bomberos de Bogotá | D13: 02 - selec. abrev. menor cuantía | E13: BS | F13: 06 - contrato de compraventa | G13: OCTUBRE | H13: 4 | I13: 0 | J13: 50920000 | K13: NO | L13: Sub. Gestión Humana | M13: Jose Andres Ponce Caicedo | N13: 131- Funcionamiento | O13: Subdirector@ de Gestión Corporativa | P13: 1-100-F001 VA-Recursos distrito | Q13: 46181900;46181901 | R13: No aplica | S13: =MID(PAA[[#This Row],[Meta Proyecto de Inversión]],1,4) -> No a | T13: =MID(PAA[[#This Row],[Meta Proyecto de Inversión]],6,2) -> li | U13: =IFERROR(VLOOKUP(N13,TD!$B$54:$F$58,2,0)," ") -> NA | V13: =IFERROR(VLOOKUP(N13,TD!$B$54:$F$58,3,0)," ") -> NA | W13: =IFERROR(VLOOKUP(N13,TD!$B$54:$F$58,4,0)," ") -> NA | X13: N/A | Y13: =IFERROR(VLOOKUP(X13,TD!$J$55:$K$68,2,0)," ") -> N/A | Z13: =CONCATENATE(X13,"-",Y13) -> N/A-N/A | AA13: N/A | AB13: =IFERROR(VLOOKUP(AA13,TD!$N$55:$O$70,2,0)," ") -> N/A | AC13: =CONCATENATE(AA13,"_",AB13) -> N/A_N/A | AD13: =CONCATENATE(Z13," ",AC13) -> N/A-N/A N/A_N/A | AE13: =CONCATENATE(U13,V13,W13,X13,AA13) -> NANANAN/AN/A | AF13: =IFERROR(VLOOKUP(AD13,TD!$J$70:$K$93,2,0)," ") -> N/A | AG13: No Aplica | AH13: Si Secop | AI13: =CONCATENATE(PAA[[#This Row],[Id Interno]],"-",PAA[[#This Row],[tipo de Contrato (TH talento humano - B/S bienes y/o servicios)]],"-",S13,"-",T13,"-",PAA[[#This Row],[Objeto de la contratación]]) -> 20260195-BS-No a-li-SGH - Adquirir elementos de protección personal para prevenir la aparición de enfermedades ocupacionales en el oido, de los funcionarios de la UAE Cuerpo Oficial de Bomberos de Bogotá
B14: 20260197 | C14: Suministro e instalación de llantas para los vehículos y equipos menores incluye (alineación, balanceo y servicios conexos) de la U.A.E Cuerpo Oficial de Bogotá-SBLG | D14: 03 - selec. abrev. subasta inversa | E14: BS | F14: 08 - contrato de suministro | G14: JULIO | H14: 12 | I14: 0 | J14: =83151000 -> 83151000 | K14: NO | L14: Sub. Logística | M14: Omer Mauricio Rivera Ruiz | N14: 8173-Modernización de las capacidades del Cuerpo Oficial de Bomberos Bogotá D.C. | O14: Subdirector@ de Gestión del Riesgo | P14: 1-100-I087 VA-Sobretasa Bomberil | Q14: 25172500 | R14: 8173 4-Desarrollar 3 estrategias para el fortalecimiento de la logistica en la atención de emergencias. | S14: =MID(PAA[[#This Row],[Meta Proyecto de Inversión]],1,4) -> 8173 | T14: =MID(PAA[[#This Row],[Meta Proyecto de Inversión]],6,2) -> 4- | U14: =IFERROR(VLOOKUP(N14,TD!$B$54:$F$58,2,0)," ") -> O230117 | V14: =IFERROR(VLOOKUP(N14,TD!$B$54:$F$58,3,0)," ") -> 4503 | W14: =IFERROR(VLOOKUP(N14,TD!$B$54:$F$58,4,0)," ") -> 20240255 | X14: 09 | Y14: =IFERROR(VLOOKUP(X14,TD!$J$55:$K$68,2,0)," ") -> Servicio de mantenimiento, dotación (HEA´s y equipo menor) y adquisición de vehiculos especializados para la atención de emergencias. | Z14: =CONCATENATE(X14,"-",Y14) -> 09-Servicio de mantenimiento, dotación (HEA´s y equipo menor) y adquisición de vehiculos especializados para la atención de emergencias. | AA14: 004 | AB14: =IFERROR(VLOOKUP(AA14,TD!$N$55:$O$70,2,0)," ") -> Servicio de atención a emergencias y desastres | AC14: =CONCATENATE(AA14,"_",AB14) -> 004_Servicio de atención a emergencias y desastres | AD14: =CONCATENATE(Z14," ",AC14) -> 09-Servicio de mantenimiento, dotación (HEA´s y equipo menor) y adquisición de vehiculos especializados para la atención de emergencias. 004_Servicio de atención a emergencias y desastres | AE14: =CONCATENATE(U14,V14,W14,X14,AA14) -> O23011745032024025509004 | AF14: =IFERROR(VLOOKUP(AD14,TD!$J$70:$K$93,2,0)," ") -> PM/0131/0109/45030040255 | AG14: O2320201003063611101 Llantas de caucho para automóviles | AH14: Si Secop | AI14: =CONCATENATE(PAA[[#This Row],[Id Interno]],"-",PAA[[#This Row],[tipo de Contrato (TH talento humano - B/S bienes y/o servicios)]],"-",S14,"-",T14,"-",PAA[[#This Row],[Objeto de la contratación]]) -> 20260197-BS-8173-4--Suministro e instalación de llantas para los vehículos y equipos menores incluye (alineación, balanceo y servicios conexos) de la U.A.E Cuerpo Oficial de Bogotá-SBLG
B15: 20260246 | C15: Contratar el suministro de alimentación para los caninos del cuerpo oficial y animales rescatados por la U.A.E. del Cuerpo Oficial de Bomberos de Bogotá – SBLG | D15: 04 - contratación mínima cuantía | E15: BS | F15: 08 - contrato de suministro | G15: JUNIO | H15: 8 | I15: 0 | J15: 48500000 | K15: NO | L15: Sub. Logística | M15: Omer Mauricio Rivera Ruiz | N15: 8173-Modernización de las capacidades del Cuerpo Oficial de Bomberos Bogotá D.C. | O15: Subdirector@ de Gestión del Riesgo | P15: 1-100-I087 VA-Sobretasa Bomberil | Q15: 10121801; 10121802; 10121804 | R15: 8173 4-Desarrollar 3 estrategias para el fortalecimiento de la logistica en la atención de emergencias. | S15: =MID(PAA[[#This Row],[Meta Proyecto de Inversión]],1,4) -> 8173 | T15: =MID(PAA[[#This Row],[Meta Proyecto de Inversión]],6,2) -> 4- | U15: =IFERROR(VLOOKUP(N15,TD!$B$54:$F$58,2,0)," ") -> O230117 | V15: =IFERROR(VLOOKUP(N15,TD!$B$54:$F$58,3,0)," ") -> 4503 | W15: =IFERROR(VLOOKUP(N15,TD!$B$54:$F$58,4,0)," ") -> 20240255 | X15: 12 | Y15: =IFERROR(VLOOKUP(X15,TD!$J$55:$K$68,2,0)," ") -> Servicio de apoyo logístico en eventos operativos y/o emergencias. | Z15: =CONCATENATE(X15,"-",Y15) -> 12-Servicio de apoyo logístico en eventos operativos y/o emergencias. | AA15: 004 | AB15: =IFERROR(VLOOKUP(AA15,TD!$N$55:$O$70,2,0)," ") -> Servicio de atención a emergencias y desastres | AC15: =CONCATENATE(AA15,"_",AB15) -> 004_Servicio de atención a emergencias y desastres | AD15: =CONCATENATE(Z15," ",AC15) -> 12-Servicio de apoyo logístico en eventos operativos y/o emergencias. 004_Servicio de atención a emergencias y desastres | AE15: =CONCATENATE(U15,V15,W15,X15,AA15) -> O23011745032024025512004 | AF15: =IFERROR(VLOOKUP(AD15,TD!$J$70:$K$93,2,0)," ") -> PM/0131/0112/45030040255 | AG15: O232020200883590 Otros servicios veterinarios | AH15: Si Secop | AI15: =CONCATENATE(PAA[[#This Row],[Id Interno]],"-",PAA[[#This Row],[tipo de Contrato (TH talento humano - B/S bienes y/o servicios)]],"-",S15,"-",T15,"-",PAA[[#This Row],[Objeto de la contratación]]) -> 20260246-BS-8173-4--Contratar el suministro de alimentación para los caninos del cuerpo oficial y animales rescatados por la U.A.E. del Cuerpo Oficial de Bomberos de Bogotá – SBLG
B16: 20260249 | C16: Prestación de servicios médicos veterinarios, con suministro de medicamentos e insumos veterinarios y otros, para los caninos de la U.A.E. Cuerpo Oficial de Bomberos de Bogotá - SBLG | D16: 04 - contratación mínima cuantía | E16: BS | F16: 03 - contrato de prestacion de servicios | G16: JULIO | H16: 8 | I16: 0 | J16: 14134560 | K16: NO | L16: Sub. Logística | M16: Omer Mauricio Rivera Ruiz | N16: 8173-Modernización de las capacidades del Cuerpo Oficial de Bomberos Bogotá D.C. | O16: Subdirector@ de Gestión del Riesgo | P16: 1-100-I087 VA-Sobretasa Bomberil | Q16: 70122002; 70122005; 70122006; 70122007; 70122008; 70122009; 70122010; 10110000; 42120000;70122001. | R16: 8173 4-Desarrollar 3 estrategias para el fortalecimiento de la logistica en la atención de emergencias. | S16: =MID(PAA[[#This Row],[Meta Proyecto de Inversión]],1,4) -> 8173 | T16: =MID(PAA[[#This Row],[Meta Proyecto de Inversión]],6,2) -> 4- | U16: =IFERROR(VLOOKUP(N16,TD!$B$54:$F$58,2,0)," ") -> O230117 | V16: =IFERROR(VLOOKUP(N16,TD!$B$54:$F$58,3,0)," ") -> 4503 | W16: =IFERROR(VLOOKUP(N16,TD!$B$54:$F$58,4,0)," ") -> 20240255 | X16: 12 | Y16: =IFERROR(VLOOKUP(X16,TD!$J$55:$K$68,2,0)," ") -> Servicio de apoyo logístico en eventos operativos y/o emergencias. | Z16: =CONCATENATE(X16,"-",Y16) -> 12-Servicio de apoyo logístico en eventos operativos y/o emergencias. | AA16: 004 | AB16: =IFERROR(VLOOKUP(AA16,TD!$N$55:$O$70,2,0)," ") -> Servicio de atención a emergencias y desastres | AC16: =CONCATENATE(AA16,"_",AB16) -> 004_Servicio de atención a emergencias y desastres | AD16: =CONCATENATE(Z16," ",AC16) -> 12-Servicio de apoyo logístico en eventos operativos y/o emergencias. 004_Servicio de atención a emergencias y desastres | AE16: =CONCATENATE(U16,V16,W16,X16,AA16) -> O23011745032024025512004 | AF16: =IFERROR(VLOOKUP(AD16,TD!$J$70:$K$93,2,0)," ") -> PM/0131/0112/45030040255 | AG16: O232020200883590 Otros servicios veterinarios | AH16: Si Secop | AI16: =CONCATENATE(PAA[[#This Row],[Id Interno]],"-",PAA[[#This Row],[tipo de Contrato (TH talento humano - B/S bienes y/o servicios)]],"-",S16,"-",T16,"-",PAA[[#This Row],[Objeto de la contratación]]) -> 20260249-BS-8173-4--Prestación de servicios médicos veterinarios, con suministro de medicamentos e insumos veterinarios y otros, para los caninos de la U.A.E. Cuerpo Oficial de Bomberos de Bogotá - SBLG
B17: 20260255 | C17: Adición al contrato 622-2025 cuyo objeto es: ¨Prestación del servicio de mantenimiento preventivo y correctivo de los equipos de respiración autónoma interspiro propiedad de la UAECOB, incluido el suministro de repuestos, insumos mano de obra especializada –SBLG | D17: 09 - contratación directa | E17: BS | F17: 03 - contrato de prestacion de servicios | G17: MARZO | H17: 4 | I17: 0 | J17: 26104301 | K17: NO | L17: Sub. Logística | M17: Omer Mauricio Rivera Ruiz | N17: 8173-Modernización de las capacidades del Cuerpo Oficial de Bomberos Bogotá D.C. | O17: Subdirector@ de Gestión del Riesgo | P17: 1-100-I087 VA-Sobretasa Bomberil | Q17: 72101509 | R17: 8173 4-Desarrollar 3 estrategias para el fortalecimiento de la logistica en la atención de emergencias. | S17: =MID(PAA[[#This Row],[Meta Proyecto de Inversión]],1,4) -> 8173 | T17: =MID(PAA[[#This Row],[Meta Proyecto de Inversión]],6,2) -> 4- | U17: =IFERROR(VLOOKUP(N17,TD!$B$54:$F$58,2,0)," ") -> O230117 | V17: =IFERROR(VLOOKUP(N17,TD!$B$54:$F$58,3,0)," ") -> 4503 | W17: =IFERROR(VLOOKUP(N17,TD!$B$54:$F$58,4,0)," ") -> 20240255 | X17: 09 | Y17: =IFERROR(VLOOKUP(X17,TD!$J$55:$K$68,2,0)," ") -> Servicio de mantenimiento, dotación (HEA´s y equipo menor) y adquisición de vehiculos especializados para la atención de emergencias. | Z17: =CONCATENATE(X17,"-",Y17) -> 09-Servicio de mantenimiento, dotación (HEA´s y equipo menor) y adquisición de vehiculos especializados para la atención de emergencias. | AA17: 004 | AB17: =IFERROR(VLOOKUP(AA17,TD!$N$55:$O$70,2,0)," ") -> Servicio de atención a emergencias y desastres | AC17: =CONCATENATE(AA17,"_",AB17) -> 004_Servicio de atención a emergencias y desastres | AD17: =CONCATENATE(Z17," ",AC17) -> 09-Servicio de mantenimiento, dotación (HEA´s y equipo menor) y adquisición de vehiculos especializados para la atención de emergencias. 004_Servicio de atención a emergencias y desastres | AE17: =CONCATENATE(U17,V17,W17,X17,AA17) -> O23011745032024025509004 | AF17: =IFERROR(VLOOKUP(AD17,TD!$J$70:$K$93,2,0)," ") -> PM/0131/0109/45030040255 | AG17: O23201010030208 Otra maquinaria para usos especiales y sus partes y piezas | AH17: No Secop | AI17: =CONCATENATE(PAA[[#This Row],[Id Interno]],"-",PAA[[#This Row],[tipo de Contrato (TH talento humano - B/S bienes y/o servicios)]],"-",S17,"-",T17,"-",PAA[[#This Row],[Objeto de la contratación]]) -> 20260255-BS-8173-4--Adición al contrato 622-2025 cuyo objeto es: ¨Prestación del servicio de mantenimiento preventivo y correctivo de los equipos de respiración autónoma interspiro propiedad de la UAECOB, incluido el suministro de repuestos, insumos mano de obra especializada –SBLG
B18: 20260320 | C18: Prestación de servicios de apoyo a la gestión para ejecutar actividades administrativas y asistenciales para el diligenciamiento y seguimiento de las solicitudes en las herramientas de gestión de los procedimientos, para el desarrollo de los programas y metas de la Subdirección Operativa-S.O. | D18: 09 - contratación directa | E18: TH | F18: 26 - contrato de prestacion de servicios de apoyo a la gestion | G18: JULIO | H18: 5 | I18: 0 | J18: 22450000 | K18: NO | L18: Sub. Operativa | M18: Yenire Yohansy Lozano Ascanio | N18: 8173-Modernización de las capacidades del Cuerpo Oficial de Bomberos Bogotá D.C. | O18: Subdirector@ de Gestión del Riesgo | P18: 1-100-I087 VA-Sobretasa Bomberil | Q18: 80111600 | R18: 8173 1-Implementación 6 estrategias de reducción del riesgo de incendios, incidentes con materiales peligrosos y rescate en todas sus modalidades en la ciudad de Bogotá | S18: =MID(PAA[[#This Row],[Meta Proyecto de Inversión]],1,4) -> 8173 | T18: =MID(PAA[[#This Row],[Meta Proyecto de Inversión]],6,2) -> 1- | U18: =IFERROR(VLOOKUP(N18,TD!$B$54:$F$58,2,0)," ") -> O230117 | V18: =IFERROR(VLOOKUP(N18,TD!$B$54:$F$58,3,0)," ") -> 4503 | W18: =IFERROR(VLOOKUP(N18,TD!$B$54:$F$58,4,0)," ") -> 20240255 | X18: 04 | Y18: =IFERROR(VLOOKUP(X18,TD!$J$55:$K$68,2,0)," ") -> Servicio de atención a incidentes y emergencias. | Z18: =CONCATENATE(X18,"-",Y18) -> 04-Servicio de atención a incidentes y emergencias. | AA18: 004 | AB18: =IFERROR(VLOOKUP(AA18,TD!$N$55:$O$70,2,0)," ") -> Servicio de atención a emergencias y desastres | AC18: =CONCATENATE(AA18,"_",AB18) -> 004_Servicio de atención a emergencias y desastres | AD18: =CONCATENATE(Z18," ",AC18) -> 04-Servicio de atención a incidentes y emergencias. 004_Servicio de atención a emergencias y desastres | AE18: =CONCATENATE(U18,V18,W18,X18,AA18) -> O23011745032024025504004 | AF18: =IFERROR(VLOOKUP(AD18,TD!$J$70:$K$93,2,0)," ") -> PM/0131/0104/45030040255 | AG18: O232020200991191 Servicios administrativos relacionados con los trabajadores estatales | AH18: Si Secop | AI18: =CONCATENATE(PAA[[#This Row],[Id Interno]],"-",PAA[[#This Row],[tipo de Contrato (TH talento humano - B/S bienes y/o servicios)]],"-",S18,"-",T18,"-",PAA[[#This Row],[Objeto de la contratación]]) -> 20260320-TH-8173-1--Prestación de servicios de apoyo a la gestión para ejecutar actividades administrativas y asistenciales para el diligenciamiento y seguimiento de las solicitudes en las herramientas de gestión de los procedimientos, para el desarrollo de los programas y metas de la Subdirección Operativa-S.O.
B19: 20260403 | C19: Prestación de servicios de apoyo a la gestión en la ejecución de los planes y programas de servicio al ciudadano a cargo de la Subdirección de Gestión Corporativa.-SGC | D19: 09 - contratación directa | E19: TH | F19: 26 - contrato de prestacion de servicios de apoyo a la gestion | G19: ENERO | H19: 11 | I19: 0 | J19: 26274624 | K19: NO | L19: Sub. Gestión Corporativa | M19: Fatima Veronica Quintero Nuñez | N19: 8126-Fortalecimiento institucional de la UAECOB para un gobierno confiable Bogotá D.C. | O19: Subdirector@ de Gestión Corporativa | P19: 1-100-I087 VA-Sobretasa Bomberil | Q19: 80111600; | R19: 8126 9-Fortalecer el 100% de la gestión administrativa de las áreas de apoyo al cumplimiento de la misionalidad de la UAECOB | S19: =MID(PAA[[#This Row],[Meta Proyecto de Inversión]],1,4) -> 8126 | T19: =MID(PAA[[#This Row],[Meta Proyecto de Inversión]],6,2) -> 9- | U19: =IFERROR(VLOOKUP(N19,TD!$B$54:$F$58,2,0)," ") -> O230117 | V19: =IFERROR(VLOOKUP(N19,TD!$B$54:$F$58,3,0)," ") -> 4599 | W19: =IFERROR(VLOOKUP(N19,TD!$B$54:$F$58,4,0)," ") -> 20240207 | X19: 08 | Y19: =IFERROR(VLOOKUP(X19,TD!$J$55:$K$68,2,0)," ") -> Infraestructura física, mantenimiento y dotación (Sedes construidas, mantenidas reforzadas) | Z19: =CONCATENATE(X19,"-",Y19) -> 08-Infraestructura física, mantenimiento y dotación (Sedes construidas, mantenidas reforzadas) | AA19: 016 | AB19: =IFERROR(VLOOKUP(AA19,TD!$N$55:$O$70,2,0)," ") -> Sedes mantenidas | AC19: =CONCATENATE(AA19,"_",AB19) -> 016_Sedes mantenidas | AD19: =CONCATENATE(Z19," ",AC19) -> 08-Infraestructura física, mantenimiento y dotación (Sedes construidas, mantenidas reforzadas) 016_Sedes mantenidas | AE19: =CONCATENATE(U19,V19,W19,X19,AA19) -> O23011745992024020708016 | AF19: =IFERROR(VLOOKUP(AD19,TD!$J$70:$K$93,2,0)," ") -> PM/0131/0108/45990160207 | AG19: O232020200991191 Servicios administrativos relacionados con los trabajadores estatales | AH19: Si Secop | AI19: =CONCATENATE(PAA[[#This Row],[Id Interno]],"-",PAA[[#This Row],[tipo de Contrato (TH talento humano - B/S bienes y/o servicios)]],"-",S19,"-",T19,"-",PAA[[#This Row],[Objeto de la contratación]]) -> 20260403-TH-8126-9--Prestación de servicios de apoyo a la gestión en la ejecución de los planes y programas de servicio al ciudadano a cargo de la Subdirección de Gestión Corporativa.-SGC
B20: 20260539 | C20: Adquirir máquinas de grabado láser para el plaqueteo y/o marcación de los bienes devolutivos de la UAECOB, con el fin de garantizar el correcto control del inventario mediante rótulos duraderos y resistentes-SGC | D20: 04 - contratación mínima cuantía | E20: BS | F20: 06 - contrato de compraventa | G20: MARZO | H20: 3 | I20: 0 | J20: 32427500 | K20: NO | L20: Sub. Gestión Corporativa | M20: Fatima Veronica Quintero Nuñez | N20: 8173-Modernización de las capacidades del Cuerpo Oficial de Bomberos Bogotá D.C. | O20: Subdirector@ de Gestión del Riesgo | P20: 1-100-I087 VA-Sobretasa Bomberil | Q20: 23153602; | R20: 8173 11-Gestionar el 100% de las necesidades de bienes y servicios a la infraestructura en funcionamiento | S20: =MID(PAA[[#This Row],[Meta Proyecto de Inversión]],1,4) -> 8173 | T20: =MID(PAA[[#This Row],[Meta Proyecto de Inversión]],6,2) -> 11 | U20: =IFERROR(VLOOKUP(N20,TD!$B$54:$F$58,2,0)," ") -> O230117 | V20: =IFERROR(VLOOKUP(N20,TD!$B$54:$F$58,3,0)," ") -> 4503 | W20: =IFERROR(VLOOKUP(N20,TD!$B$54:$F$58,4,0)," ") -> 20240255 | X20: 14 | Y20: =IFERROR(VLOOKUP(X20,TD!$J$55:$K$68,2,0)," ") -> Infraestructura física misional construida mantenida y dotada | Z20: =CONCATENATE(X20,"-",Y20) -> 14-Infraestructura física misional construida mantenida y dotada | AA20: 014 | AB20: =IFERROR(VLOOKUP(AA20,TD!$N$55:$O$70,2,0)," ") -> Estaciones de bomberos adecuadas | AC20: =CONCATENATE(AA20,"_",AB20) -> 014_Estaciones de bomberos adecuadas | AD20: =CONCATENATE(Z20," ",AC20) -> 14-Infraestructura física misional construida mantenida y dotada 014_Estaciones de bomberos adecuadas | AE20: =CONCATENATE(U20,V20,W20,X20,AA20) -> O23011745032024025514014 | AF20: =IFERROR(VLOOKUP(AD20,TD!$J$70:$K$93,2,0)," ") -> PM/0131/0114/45030140255 | AG20: O23201010030208 Otra maquinaria para usos especiales y sus partes y piezas | AH20: Si Secop | AI20: =CONCATENATE(PAA[[#This Row],[Id Interno]],"-",PAA[[#This Row],[tipo de Contrato (TH talento humano - B/S bienes y/o servicios)]],"-",S20,"-",T20,"-",PAA[[#This Row],[Objeto de la contratación]]) -> 20260539-BS-8173-11-Adquirir máquinas de grabado láser para el plaqueteo y/o marcación de los bienes devolutivos de la UAECOB, con el fin de garantizar el correcto control del inventario mediante rótulos duraderos y resistentes-SGC
B21: 20260635 | C21: Adición No. 1 al contrato 629 de 2025 que tiene como objeto “Prestar el servicio de vigilancia y seguridad privada en la modalidad de vigilancia fija, según especificaciones técnicas, en las instalaciones donde la UAE Especial Cuerpo Oficial de Bomberos requiera-SGC | D21: 01 - licitación pública | E21: BS | F21: 03 - contrato de prestacion de servicios | G21: MAYO | H21: 0 | I21: 0 | J21: 238909870 | K21: NO | L21: Sub. Gestión Corporativa | M21: Fatima Veronica Quintero Nuñez | N21: 8126-Fortalecimiento institucional de la UAECOB para un gobierno confiable Bogotá D.C. | O21: Subdirector@ de Gestión Corporativa | P21: 1-100-I087 VA-Sobretasa Bomberil | Q21: 92121500; | R21: 8126 8-Implementar el 100% del programa de mantenimiento a las sedes de Bomberos de Bogotá | S21: =MID(PAA[[#This Row],[Meta Proyecto de Inversión]],1,4) -> 8126 | T21: =MID(PAA[[#This Row],[Meta Proyecto de Inversión]],6,2) -> 8- | U21: =IFERROR(VLOOKUP(N21,TD!$B$54:$F$58,2,0)," ") -> O230117 | V21: =IFERROR(VLOOKUP(N21,TD!$B$54:$F$58,3,0)," ") -> 4599 | W21: =IFERROR(VLOOKUP(N21,TD!$B$54:$F$58,4,0)," ") -> 20240207 | X21: 08 | Y21: =IFERROR(VLOOKUP(X21,TD!$J$55:$K$68,2,0)," ") -> Infraestructura física, mantenimiento y dotación (Sedes construidas, mantenidas reforzadas) | Z21: =CONCATENATE(X21,"-",Y21) -> 08-Infraestructura física, mantenimiento y dotación (Sedes construidas, mantenidas reforzadas) | AA21: 016 | AB21: =IFERROR(VLOOKUP(AA21,TD!$N$55:$O$70,2,0)," ") -> Sedes mantenidas | AC21: =CONCATENATE(AA21,"_",AB21) -> 016_Sedes mantenidas | AD21: =CONCATENATE(Z21," ",AC21) -> 08-Infraestructura física, mantenimiento y dotación (Sedes construidas, mantenidas reforzadas) 016_Sedes mantenidas | AE21: =CONCATENATE(U21,V21,W21,X21,AA21) -> O23011745992024020708016 | AF21: =IFERROR(VLOOKUP(AD21,TD!$J$70:$K$93,2,0)," ") -> PM/0131/0108/45990160207 | AG21: O232020200885250 Servicios de protección (guardas de seguridad) | AH21: No Secop | AI21: =CONCATENATE(PAA[[#This Row],[Id Interno]],"-",PAA[[#This Row],[tipo de Contrato (TH talento humano - B/S bienes y/o servicios)]],"-",S21,"-",T21,"-",PAA[[#This Row],[Objeto de la contratación]]) -> 20260635-BS-8126-8--Adición No. 1 al contrato 629 de 2025 que tiene como objeto “Prestar el servicio de vigilancia y seguridad privada en la modalidad de vigilancia fija, según especificaciones técnicas, en las instalaciones donde la UAE Especial Cuerpo Oficial de Bomberos requiera-SGC
B22: 20260659 | C22: SGH - Utilización lista de elegibles CNSC para provisión de vacantes | D22: 91 - n/a acto administrativo (resolución, decreto, acuerdo, etc.) | E22: BS | F22: 12 - resolucion | G22: MARZO | H22: 6 | I22: 0 | J22: 45860535 | K22: NO | L22: Sub. Gestión Humana | M22: Jose Andres Ponce Caicedo | N22: 131- Funcionamiento | O22: Subdirector@ de Gestión Corporativa | P22: 1-100-F001 VA-Recursos distrito | Q22: N/A | R22: No aplica | S22: =MID(PAA[[#This Row],[Meta Proyecto de Inversión]],1,4) -> No a | T22: =MID(PAA[[#This Row],[Meta Proyecto de Inversión]],6,2) -> li | U22: =IFERROR(VLOOKUP(N22,TD!$B$54:$F$58,2,0)," ") -> NA | V22: =IFERROR(VLOOKUP(N22,TD!$B$54:$F$58,3,0)," ") -> NA | W22: =IFERROR(VLOOKUP(N22,TD!$B$54:$F$58,4,0)," ") -> NA | X22: N/A | Y22: =IFERROR(VLOOKUP(X22,TD!$J$55:$K$68,2,0)," ") -> N/A | Z22: =CONCATENATE(X22,"-",Y22) -> N/A-N/A | AA22: N/A | AB22: =IFERROR(VLOOKUP(AA22,TD!$N$55:$O$70,2,0)," ") -> N/A | AC22: =CONCATENATE(AA22,"_",AB22) -> N/A_N/A | AD22: =CONCATENATE(Z22," ",AC22) -> N/A-N/A N/A_N/A | AE22: =CONCATENATE(U22,V22,W22,X22,AA22) -> NANANAN/AN/A | AF22: =IFERROR(VLOOKUP(AD22,TD!$J$70:$K$93,2,0)," ") -> N/A | AG22: No Aplica | AH22: Si Secop | AI22: =CONCATENATE(PAA[[#This Row],[Id Interno]],"-",PAA[[#This Row],[tipo de Contrato (TH talento humano - B/S bienes y/o servicios)]],"-",S22,"-",T22,"-",PAA[[#This Row],[Objeto de la contratación]]) -> 20260659-BS-No a-li-SGH - Utilización lista de elegibles CNSC para provisión de vacantes
B23: 20260684 | C23: Realizar la adecuación y mejoramiento de las instalaciones de La Unidad Administrativa Especial Cuerpo Oficial de Bomberos de Bogotá D.C. – SGC.C | D23: 01 - licitación pública | E23: BS | F23: 05 - contrato de obra | G23: JULIO | H23: 10 | I23: 0 | J23: 218693801 | K23: NO | L23: Sub. Gestión Corporativa | M23: Fatima Veronica Quintero Nuñez | N23: 8173-Modernización de las capacidades del Cuerpo Oficial de Bomberos Bogotá D.C. | O23: Subdirector@ de Gestión del Riesgo | P23: 1-100-I087 VA-Sobretasa Bomberil | Q23: 72121400; 72151700; 72151700; 81101500 | R23: 8173 7-Adecuar 4 Sedes de la UAECOB | S23: =MID(PAA[[#This Row],[Meta Proyecto de Inversión]],1,4) -> 8173 | T23: =MID(PAA[[#This Row],[Meta Proyecto de Inversión]],6,2) -> 7- | U23: =IFERROR(VLOOKUP(N23,TD!$B$54:$F$58,2,0)," ") -> O230117 | V23: =IFERROR(VLOOKUP(N23,TD!$B$54:$F$58,3,0)," ") -> 4503 | W23: =IFERROR(VLOOKUP(N23,TD!$B$54:$F$58,4,0)," ") -> 20240255 | X23: 14 | Y23: =IFERROR(VLOOKUP(X23,TD!$J$55:$K$68,2,0)," ") -> Infraestructura física misional construida mantenida y dotada | Z23: =CONCATENATE(X23,"-",Y23) -> 14-Infraestructura física misional construida mantenida y dotada | AA23: 014 | AB23: =IFERROR(VLOOKUP(AA23,TD!$N$55:$O$70,2,0)," ") -> Estaciones de bomberos adecuadas | AC23: =CONCATENATE(AA23,"_",AB23) -> 014_Estaciones de bomberos adecuadas | AD23: =CONCATENATE(Z23," ",AC23) -> 14-Infraestructura física misional construida mantenida y dotada 014_Estaciones de bomberos adecuadas | AE23: =CONCATENATE(U23,V23,W23,X23,AA23) -> O23011745032024025514014 | AF23: =IFERROR(VLOOKUP(AD23,TD!$J$70:$K$93,2,0)," ") -> PM/0131/0114/45030140255 | AG23: O2320202005040554590 Otros servicios especializados de la construcción | AH23: Si Secop | AI23: =CONCATENATE(PAA[[#This Row],[Id Interno]],"-",PAA[[#This Row],[tipo de Contrato (TH talento humano - B/S bienes y/o servicios)]],"-",S23,"-",T23,"-",PAA[[#This Row],[Objeto de la contratación]]) -> 20260684-BS-8173-7--Realizar la adecuación y mejoramiento de las instalaciones de La Unidad Administrativa Especial Cuerpo Oficial de Bomberos de Bogotá D.C. – SGC.C
B24: 20260704 | C24: Contratar el servicio de actualización y soporte de licenciamiento ArcGIS para la U.A.E. Cuerpo Oficial de Bomberos de Bogotá.- TIC | D24: 09 - contratación directa | E24: BS | F24: 19 - contrato de renovacion de licencias | G24: NOVIEMBRE | H24: 12 | I24: 0 | J24: 95044968 | K24: NO | L24: Dirección Tic | M24: Paula Ximena Henao Escobar | N24: 131- Funcionamiento | O24: Subdirector@ de Gestión Corporativa | P24: 1-100-F001 VA-Recursos distrito | Q24: 81112217 | R24: No aplica | S24: =MID(PAA[[#This Row],[Meta Proyecto de Inversión]],1,4) -> No a | T24: =MID(PAA[[#This Row],[Meta Proyecto de Inversión]],6,2) -> li | U24: =IFERROR(VLOOKUP(N24,TD!$B$54:$F$58,2,0)," ") -> NA | V24: =IFERROR(VLOOKUP(N24,TD!$B$54:$F$58,3,0)," ") -> NA | W24: =IFERROR(VLOOKUP(N24,TD!$B$54:$F$58,4,0)," ") -> NA | X24: N/A | Y24: =IFERROR(VLOOKUP(X24,TD!$J$55:$K$68,2,0)," ") -> N/A | Z24: =CONCATENATE(X24,"-",Y24) -> N/A-N/A | AA24: N/A | AB24: =IFERROR(VLOOKUP(AA24,TD!$N$55:$O$70,2,0)," ") -> N/A | AC24: =CONCATENATE(AA24,"_",AB24) -> N/A_N/A | AD24: =CONCATENATE(Z24," ",AC24) -> N/A-N/A N/A_N/A | AE24: =CONCATENATE(U24,V24,W24,X24,AA24) -> NANANAN/AN/A | AF24: =IFERROR(VLOOKUP(AD24,TD!$J$70:$K$93,2,0)," ") -> N/A | AG24: O21202020080383141 Servicios de diseño y desarrollo de aplicaciones en tecnologías de la información (TI) | AH24: Si Secop | AI24: =CONCATENATE(PAA[[#This Row],[Id Interno]],"-",PAA[[#This Row],[tipo de Contrato (TH talento humano - B/S bienes y/o servicios)]],"-",S24,"-",T24,"-",PAA[[#This Row],[Objeto de la contratación]]) -> 20260704-BS-No a-li-Contratar el servicio de actualización y soporte de licenciamiento ArcGIS para la U.A.E. Cuerpo Oficial de Bomberos de Bogotá.- TIC
B25: 20260706 | C25: Contratar la renovación de garantía y soporte de fabrica de los equipos activos que hacen parte de la infraestructura tecnológica de la U.A.E. Cuerpo Oficial de Bomberos de Bogotá. | D25: 03 - selec. abrev. subasta inversa | E25: BS | F25: 06 - contrato de compraventa | G25: OCTUBRE | H25: 12 | I25: 0 | J25: 55695000 | K25: NO | L25: Dirección Tic | M25: Paula Ximena Henao Escobar | N25: 131- Funcionamiento | O25: Subdirector@ de Gestión Corporativa | P25: 1-100-F001 VA-Recursos distrito | Q25: 43222635 | R25: No aplica | S25: =MID(PAA[[#This Row],[Meta Proyecto de Inversión]],1,4) -> No a | T25: =MID(PAA[[#This Row],[Meta Proyecto de Inversión]],6,2) -> li | U25: =IFERROR(VLOOKUP(N25,TD!$B$54:$F$58,2,0)," ") -> NA | V25: =IFERROR(VLOOKUP(N25,TD!$B$54:$F$58,3,0)," ") -> NA | W25: =IFERROR(VLOOKUP(N25,TD!$B$54:$F$58,4,0)," ") -> NA | X25: N/A | Y25: =IFERROR(VLOOKUP(X25,TD!$J$55:$K$68,2,0)," ") -> N/A | Z25: =CONCATENATE(X25,"-",Y25) -> N/A-N/A | AA25: N/A | AB25: =IFERROR(VLOOKUP(AA25,TD!$N$55:$O$70,2,0)," ") -> N/A | AC25: =CONCATENATE(AA25,"_",AB25) -> N/A_N/A | AD25: =CONCATENATE(Z25," ",AC25) -> N/A-N/A N/A_N/A | AE25: =CONCATENATE(U25,V25,W25,X25,AA25) -> NANANAN/AN/A | AF25: =IFERROR(VLOOKUP(AD25,TD!$J$70:$K$93,2,0)," ") -> N/A | AG25: O21202020080383141 Servicios de diseño y desarrollo de aplicaciones en tecnologías de la información (TI) | AH25: Si Secop | AI25: =CONCATENATE(PAA[[#This Row],[Id Interno]],"-",PAA[[#This Row],[tipo de Contrato (TH talento humano - B/S bienes y/o servicios)]],"-",S25,"-",T25,"-",PAA[[#This Row],[Objeto de la contratación]]) -> 20260706-BS-No a-li-Contratar la renovación de garantía y soporte de fabrica de los equipos activos que hacen parte de la infraestructura tecnológica de la U.A.E. Cuerpo Oficial de Bomberos de Bogotá.
B26: 20260714 | C26: Prestar los servicios de apoyo para el proceso de comunicaciones en emergencias del centro de coordinación y comunicaciones (c.c.c.), para el desarrollo de los programas a cargo de la Subdirección Operativa-S.O. | D26: 09 - contratación directa | E26: TH | F26: 26 - contrato de prestacion de servicios de apoyo a la gestion | G26: AGOSTO | H26: 4 | I26: 15 | J26: 10500000 | K26: NO | L26: Sub. Operativa | M26: Yenire Yohansy Lozano Ascanio | N26: 8173-Modernización de las capacidades del Cuerpo Oficial de Bomberos Bogotá D.C. | O26: Subdirector@ de Gestión del Riesgo | P26: 1-100-I087 VA-Sobretasa Bomberil | Q26: 80111600 | R26: 8173 2-Desarrollar un programa de renovación de equipos, herramientas, accesorios y elementos de protección personal en la UAECOB. | S26: =MID(PAA[[#This Row],[Meta Proyecto de Inversión]],1,4) -> 8173 | T26: =MID(PAA[[#This Row],[Meta Proyecto de Inversión]],6,2) -> 2- | U26: =IFERROR(VLOOKUP(N26,TD!$B$54:$F$58,2,0)," ") -> O230117 | V26: =IFERROR(VLOOKUP(N26,TD!$B$54:$F$58,3,0)," ") -> 4503 | W26: =IFERROR(VLOOKUP(N26,TD!$B$54:$F$58,4,0)," ") -> 20240255 | X26: 04 | Y26: =IFERROR(VLOOKUP(X26,TD!$J$55:$K$68,2,0)," ") -> Servicio de atención a incidentes y emergencias. | Z26: =CONCATENATE(X26,"-",Y26) -> 04-Servicio de atención a incidentes y emergencias. | AA26: 004 | AB26: =IFERROR(VLOOKUP(AA26,TD!$N$55:$O$70,2,0)," ") -> Servicio de atención a emergencias y desastres | AC26: =CONCATENATE(AA26,"_",AB26) -> 004_Servicio de atención a emergencias y desastres | AD26: =CONCATENATE(Z26," ",AC26) -> 04-Servicio de atención a incidentes y emergencias. 004_Servicio de atención a emergencias y desastres | AE26: =CONCATENATE(U26,V26,W26,X26,AA26) -> O23011745032024025504004 | AF26: =IFERROR(VLOOKUP(AD26,TD!$J$70:$K$93,2,0)," ") -> PM/0131/0104/45030040255 | AG26: O232020200991191 Servicios administrativos relacionados con los trabajadores estatales | AH26: Si Secop | AI26: =CONCATENATE(PAA[[#This Row],[Id Interno]],"-",PAA[[#This Row],[tipo de Contrato (TH talento humano - B/S bienes y/o servicios)]],"-",S26,"-",T26,"-",PAA[[#This Row],[Objeto de la contratación]]) -> 20260714-TH-8173-2--Prestar los servicios de apoyo para el proceso de comunicaciones en emergencias del centro de coordinación y comunicaciones (c.c.c.), para el desarrollo de los programas a cargo de la Subdirección Operativa-S.O.
B27: 20260762 | C27: Adición No. 1 prórroga No. 3 al contrato 703 de 2025 con objeto" Adquisición de elementos para el fortalecimiento de la imagen institucional y la identidad visual de la UAECOB-SGC. | D27: 03 - selec. abrev. subasta inversa | E27: BS | F27: 06 - contrato de compraventa | G27: JUNIO | H27: 1 | I27: 0 | J27: 10760832 | K27: NO | L27: Sub. Gestión Corporativa | M27: Fatima Veronica Quintero Nuñez | N27: 8173-Modernización de las capacidades del Cuerpo Oficial de Bomberos Bogotá D.C. | O27: Subdirector@ de Gestión del Riesgo | P27: 1-100-I087 VA-Sobretasa Bomberil | Q27: 72154000; 55121900; 60121400; 52101500; 55121700; | R27: 8173 11-Gestionar el 100% de las necesidades de bienes y servicios a la infraestructura en funcionamiento | S27: =MID(PAA[[#This Row],[Meta Proyecto de Inversión]],1,4) -> 8173 | T27: =MID(PAA[[#This Row],[Meta Proyecto de Inversión]],6,2) -> 11 | U27: =IFERROR(VLOOKUP(N27,TD!$B$54:$F$58,2,0)," ") -> O230117 | V27: =IFERROR(VLOOKUP(N27,TD!$B$54:$F$58,3,0)," ") -> 4503 | W27: =IFERROR(VLOOKUP(N27,TD!$B$54:$F$58,4,0)," ") -> 20240255 | X27: 14 | Y27: =IFERROR(VLOOKUP(X27,TD!$J$55:$K$68,2,0)," ") -> Infraestructura física misional construida mantenida y dotada | Z27: =CONCATENATE(X27,"-",Y27) -> 14-Infraestructura física misional construida mantenida y dotada | AA27: 014 | AB27: =IFERROR(VLOOKUP(AA27,TD!$N$55:$O$70,2,0)," ") -> Estaciones de bomberos adecuadas | AC27: =CONCATENATE(AA27,"_",AB27) -> 014_Estaciones de bomberos adecuadas | AD27: =CONCATENATE(Z27," ",AC27) -> 14-Infraestructura física misional construida mantenida y dotada 014_Estaciones de bomberos adecuadas | AE27: =CONCATENATE(U27,V27,W27,X27,AA27) -> O23011745032024025514014 | AF27: =IFERROR(VLOOKUP(AD27,TD!$J$70:$K$93,2,0)," ") -> PM/0131/0114/45030140255 | AG27: O2320201003023262002 Carteles y avisos | AH27: No Secop | AI27: =CONCATENATE(PAA[[#This Row],[Id Interno]],"-",PAA[[#This Row],[tipo de Contrato (TH talento humano - B/S bienes y/o servicios)]],"-",S27,"-",T27,"-",PAA[[#This Row],[Objeto de la contratación]]) -> 20260762-BS-8173-11-Adición No. 1 prórroga No. 3 al contrato 703 de 2025 con objeto" Adquisición de elementos para el fortalecimiento de la imagen institucional y la identidad visual de la UAECOB-SGC.
B28: 20260773 | C28: Prestar servicios profesionales para apoyar el seguimiento, fortalecimiento y mejora funcional de las herramientas misionales que sirven de soporte a los procesos y procedimientos de la U.A.E. Cuerpo Oficial de Bomberos de Bogotá. | D28: 09 - contratación directa | E28: TH | F28: 25 - contrato de prestacion de servicios profesionales | G28: NOVIEMBRE | H28: 2 | I28: 0 | J28: 10322174 | K28: NO | L28: Dirección Tic | M28: Paula Ximena Henao Escobar | N28: 8126-Fortalecimiento institucional de la UAECOB para un gobierno confiable Bogotá D.C. | O28: Subdirector@ de Gestión Corporativa | P28: 1-100-I087 VA-Sobretasa Bomberil | Q28: 80111600 | R28: 8126 4-Administrar, soportar y mantener el 100% del servicio de Herramientas de Colaboración y sistemas de información. | S28: =MID(PAA[[#This Row],[Meta Proyecto de Inversión]],1,4) -> 8126 | T28: =MID(PAA[[#This Row],[Meta Proyecto de Inversión]],6,2) -> 4- | U28: =IFERROR(VLOOKUP(N28,TD!$B$54:$F$58,2,0)," ") -> O230117 | V28: =IFERROR(VLOOKUP(N28,TD!$B$54:$F$58,3,0)," ") -> 4599 | W28: =IFERROR(VLOOKUP(N28,TD!$B$54:$F$58,4,0)," ") -> 20240207 | X28: 11 | Y28: =IFERROR(VLOOKUP(X28,TD!$J$55:$K$68,2,0)," ") -> Infraestructura Tecnológica (Sistemas de Información y Tecnologia) | Z28: =CONCATENATE(X28,"-",Y28) -> 11-Infraestructura Tecnológica (Sistemas de Información y Tecnologia) | AA28: 007 | AB28: =IFERROR(VLOOKUP(AA28,TD!$N$55:$O$70,2,0)," ") -> Servicios tecnológicos | AC28: =CONCATENATE(AA28,"_",AB28) -> 007_Servicios tecnológicos | AD28: =CONCATENATE(Z28," ",AC28) -> 11-Infraestructura Tecnológica (Sistemas de Información y Tecnologia) 007_Servicios tecnológicos | AE28: =CONCATENATE(U28,V28,W28,X28,AA28) -> O23011745992024020711007 | AF28: =IFERROR(VLOOKUP(AD28,TD!$J$70:$K$93,2,0)," ") -> PM/0131/0111/45990070207 | AG28: O232020200991191 Servicios administrativos relacionados con los trabajadores estatales | AH28: Si Secop | AI28: =CONCATENATE(PAA[[#This Row],[Id Interno]],"-",PAA[[#This Row],[tipo de Contrato (TH talento humano - B/S bienes y/o servicios)]],"-",S28,"-",T28,"-",PAA[[#This Row],[Objeto de la contratación]]) -> 20260773-TH-8126-4--Prestar servicios profesionales para apoyar el seguimiento, fortalecimiento y mejora funcional de las herramientas misionales que sirven de soporte a los procesos y procedimientos de la U.A.E. Cuerpo Oficial de Bomberos de Bogotá.
B29: 20260845 | C29: Adición CONTRATO DE PRESTACION DE SERVICIOS 458 DE 2026 cuyo objeto es "SGH - Contratar la Prestación de Servicios para desarrollar el Plan de Bienestar de la UAE Cuerpo Oficial de Bomberos para la Vigencia 2026" | D29: 09 - contratación directa | E29: BS | F29: 03 - contrato de prestacion de servicios | G29: AGOSTO | H29: 10 | I29: 0 | J29: 192652750 | K29: NO | L29: Sub. Gestión Humana | M29: Jose Andres Ponce Caicedo | N29: 131- Funcionamiento | O29: Subdirector@ de Gestión Corporativa | P29: 1-100-F001 VA-Recursos distrito | Q29: 90101600;90111600;90141700;90151700 | R29: No aplica | S29: =MID(PAA[[#This Row],[Meta Proyecto de Inversión]],1,4) -> No a | T29: =MID(PAA[[#This Row],[Meta Proyecto de Inversión]],6,2) -> li | U29: =IFERROR(VLOOKUP(N29,TD!$B$54:$F$58,2,0)," ") -> NA | V29: =IFERROR(VLOOKUP(N29,TD!$B$54:$F$58,3,0)," ") -> NA | W29: =IFERROR(VLOOKUP(N29,TD!$B$54:$F$58,4,0)," ") -> NA | X29: N/A | Y29: =IFERROR(VLOOKUP(X29,TD!$J$55:$K$68,2,0)," ") -> N/A | Z29: =CONCATENATE(X29,"-",Y29) -> N/A-N/A | AA29: N/A | AB29: =IFERROR(VLOOKUP(AA29,TD!$N$55:$O$70,2,0)," ") -> N/A | AC29: =CONCATENATE(AA29,"_",AB29) -> N/A_N/A | AD29: =CONCATENATE(Z29," ",AC29) -> N/A-N/A N/A_N/A | AE29: =CONCATENATE(U29,V29,W29,X29,AA29) -> NANANAN/AN/A | AF29: =IFERROR(VLOOKUP(AD29,TD!$J$70:$K$93,2,0)," ") -> N/A | AG29: No Aplica | AH29: No Secop | AI29: =CONCATENATE(PAA[[#This Row],[Id Interno]],"-",PAA[[#This Row],[tipo de Contrato (TH talento humano - B/S bienes y/o servicios)]],"-",S29,"-",T29,"-",PAA[[#This Row],[Objeto de la contratación]]) -> 20260845-BS-No a-li-Adición CONTRATO DE PRESTACION DE SERVICIOS 458 DE 2026 cuyo objeto es "SGH - Contratar la Prestación de Servicios para desarrollar el Plan de Bienestar de la UAE Cuerpo Oficial de Bomberos para la Vigencia 2026"
B30: 20260846 | C30: SGH - Contratar los servicios de aplicación, análisis y entrega de resultados de la Batería de Riesgo Psicosocial, en cumplimiento de la Resolución 2764 de 2022 o normatividad vigente, a los funcionarios y contratistas de la UAE Cuerpo Oficial de Bomberos de Bogotá | D30: 04 - contratación mínima cuantía | E30: BS | F30: 03 - contrato de prestacion de servicios | G30: AGOSTO | H30: 5 | I30: 0 | J30: 15347250 | K30: NO | L30: Sub. Gestión Humana | M30: Jose Andres Ponce Caicedo | N30: 131- Funcionamiento | O30: Subdirector@ de Gestión Corporativa | P30: 1-100-F001 VA-Recursos distrito | Q30: 85121600 85121500 85122000 85122201 85101600 | R30: No aplica | S30: =MID(PAA[[#This Row],[Meta Proyecto de Inversión]],1,4) -> No a | T30: =MID(PAA[[#This Row],[Meta Proyecto de Inversión]],6,2) -> li | U30: =IFERROR(VLOOKUP(N30,TD!$B$54:$F$58,2,0)," ") -> NA | V30: =IFERROR(VLOOKUP(N30,TD!$B$54:$F$58,3,0)," ") -> NA | W30: =IFERROR(VLOOKUP(N30,TD!$B$54:$F$58,4,0)," ") -> NA | X30: N/A | Y30: =IFERROR(VLOOKUP(X30,TD!$J$55:$K$68,2,0)," ") -> N/A | Z30: =CONCATENATE(X30,"-",Y30) -> N/A-N/A | AA30: N/A | AB30: =IFERROR(VLOOKUP(AA30,TD!$N$55:$O$70,2,0)," ") -> N/A | AC30: =CONCATENATE(AA30,"_",AB30) -> N/A_N/A | AD30: =CONCATENATE(Z30," ",AC30) -> N/A-N/A N/A_N/A | AE30: =CONCATENATE(U30,V30,W30,X30,AA30) -> NANANAN/AN/A | AF30: =IFERROR(VLOOKUP(AD30,TD!$J$70:$K$93,2,0)," ") -> N/A | AG30: No Aplica | AH30: Si Secop | AI30: =CONCATENATE(PAA[[#This Row],[Id Interno]],"-",PAA[[#This Row],[tipo de Contrato (TH talento humano - B/S bienes y/o servicios)]],"-",S30,"-",T30,"-",PAA[[#This Row],[Objeto de la contratación]]) -> 20260846-BS-No a-li-SGH - Contratar los servicios de aplicación, análisis y entrega de resultados de la Batería de Riesgo Psicosocial, en cumplimiento de la Resolución 2764 de 2022 o normatividad vigente, a los funcionarios y contratistas de la UAE Cuerpo Oficial de Bomberos de Bogotá
B31: 20260863 | C31: Adiciòn y pròrroga al contrato 404 de 2026 cuyo objeto es: "Prestar servicios profesionales para apoyar en la estructuración de las acciones de mejora, seguimiento a la gestión contractual de la Entidad y demás procedimientos, en el marco de las funciones de la Oficina Jurídica" | D31: 09 - contratación directa | E31: TH | F31: 25 - contrato de prestacion de servicios profesionales | G31: OCTUBRE | H31: 3 | I31: 0 | J31: =28960000 -> 28960000 | K31: NO | L31: Oficina Juridica | M31: Mónica María Pérez Barragán | N31: 8126-Fortalecimiento institucional de la UAECOB para un gobierno confiable Bogotá D.C. | O31: Subdirector@ de Gestión Corporativa | P31: 1-100-I087 VA-Sobretasa Bomberil | Q31: 80111600 | R31: 8126 9-Fortalecer el 100% de la gestión administrativa de las áreas de apoyo al cumplimiento de la misionalidad de la UAECOB | S31: =MID(PAA[[#This Row],[Meta Proyecto de Inversión]],1,4) -> 8126 | T31: =MID(PAA[[#This Row],[Meta Proyecto de Inversión]],6,2) -> 9- | U31: =IFERROR(VLOOKUP(N31,TD!$B$54:$F$58,2,0)," ") -> O230117 | V31: =IFERROR(VLOOKUP(N31,TD!$B$54:$F$58,3,0)," ") -> 4599 | W31: =IFERROR(VLOOKUP(N31,TD!$B$54:$F$58,4,0)," ") -> 20240207 | X31: 08 | Y31: =IFERROR(VLOOKUP(X31,TD!$J$55:$K$68,2,0)," ") -> Infraestructura física, mantenimiento y dotación (Sedes construidas, mantenidas reforzadas) | Z31: =CONCATENATE(X31,"-",Y31) -> 08-Infraestructura física, mantenimiento y dotación (Sedes construidas, mantenidas reforzadas) | AA31: 016 | AB31: =IFERROR(VLOOKUP(AA31,TD!$N$55:$O$70,2,0)," ") -> Sedes mantenidas | AC31: =CONCATENATE(AA31,"_",AB31) -> 016_Sedes mantenidas | AD31: =CONCATENATE(Z31," ",AC31) -> 08-Infraestructura física, mantenimiento y dotación (Sedes construidas, mantenidas reforzadas) 016_Sedes mantenidas | AE31: =CONCATENATE(U31,V31,W31,X31,AA31) -> O23011745992024020708016 | AF31: =IFERROR(VLOOKUP(AD31,TD!$J$70:$K$93,2,0)," ") -> PM/0131/0108/45990160207 | AG31: O232020200991191 Servicios administrativos relacionados con los trabajadores estatales | AH31: No Secop | AI31: =CONCATENATE(PAA[[#This Row],[Id Interno]],"-",PAA[[#This Row],[tipo de Contrato (TH talento humano - B/S bienes y/o servicios)]],"-",S31,"-",T31,"-",PAA[[#This Row],[Objeto de la contratación]]) -> 20260863-TH-8126-9--Adiciòn y pròrroga al contrato 404 de 2026 cuyo objeto es: "Prestar servicios profesionales para apoyar en la estructuración de las acciones de mejora, seguimiento a la gestión contractual de la Entidad y demás procedimientos, en el marco de las funciones de la Oficina Jurídica"
B32: 20260873 | C32: Prestar servicios profesionales especializados para apoyar la gestión contractual de la UAECOB, mediante la elaboración, revisión y trámite de los documentos requeridos en las etapas precontractuales de los procesos de selección, contribuyendo a la adecuada estructuración de la contratación y al cumplimiento de las metas y programas institucionales. | D32: 09 - contratación directa | E32: TH | F32: 25 - contrato de prestacion de servicios profesionales | G32: OCTUBRE | H32: 1 | I32: 22 | J32: 15600000 | K32: NO | L32: Sub. Gestión Corporativa | M32: Fatima Veronica Quintero Nuñez | N32: 8173-Modernización de las capacidades del Cuerpo Oficial de Bomberos Bogotá D.C. | O32: Subdirector@ de Gestión del Riesgo | P32: 1-100-I087 VA-Sobretasa Bomberil | Q32: 80111600 | R32: 8173 8-Construir 1 sede de bomberos de la UAECOB | S32: =MID(PAA[[#This Row],[Meta Proyecto de Inversión]],1,4) -> 8173 | T32: =MID(PAA[[#This Row],[Meta Proyecto de Inversión]],6,2) -> 8- | U32: =IFERROR(VLOOKUP(N32,TD!$B$54:$F$58,2,0)," ") -> O230117 | V32: =IFERROR(VLOOKUP(N32,TD!$B$54:$F$58,3,0)," ") -> 4503 | W32: =IFERROR(VLOOKUP(N32,TD!$B$54:$F$58,4,0)," ") -> 20240255 | X32: 14 | Y32: =IFERROR(VLOOKUP(X32,TD!$J$55:$K$68,2,0)," ") -> Infraestructura física misional construida mantenida y dotada | Z32: =CONCATENATE(X32,"-",Y32) -> 14-Infraestructura física misional construida mantenida y dotada | AA32: 015 | AB32: =IFERROR(VLOOKUP(AA32,TD!$N$55:$O$70,2,0)," ") -> Estaciones de bomberos construidas | AC32: =CONCATENATE(AA32,"_",AB32) -> 015_Estaciones de bomberos construidas | AD32: =CONCATENATE(Z32," ",AC32) -> 14-Infraestructura física misional construida mantenida y dotada 015_Estaciones de bomberos construidas | AE32: =CONCATENATE(U32,V32,W32,X32,AA32) -> O23011745032024025514015 | AF32: =IFERROR(VLOOKUP(AD32,TD!$J$70:$K$93,2,0)," ") -> PM/0131/0114/45030150255 | AG32: O232020200991191 Servicios administrativos relacionados con los trabajadores estatales | AH32: Si Secop | AI32: =CONCATENATE(PAA[[#This Row],[Id Interno]],"-",PAA[[#This Row],[tipo de Contrato (TH talento humano - B/S bienes y/o servicios)]],"-",S32,"-",T32,"-",PAA[[#This Row],[Objeto de la contratación]]) -> 20260873-TH-8173-8--Prestar servicios profesionales especializados para apoyar la gestión contractual de la UAECOB, mediante la elaboración, revisión y trámite de los documentos requeridos en las etapas precontractuales de los procesos de selección, contribuyendo a la adecuada estructuración de la contratación y al cumplimiento de las metas y programas institucionales.
B33: 20260958 | C33: Adición y Prorroga del Contrato 102 de 2026, cuyo objeto es "Prestar servicios profesionales de manera articulada en la gestión, seguimiento y control de los procedimientos, lineamientos ambientales y de SST de los procesos, así como del sistema de Gestión de Calidad para el desarrollo de las estrategías de la Subdirección Logística - SBGL." | D33: 09 - contratación directa | E33: TH | F33: 25 - contrato de prestacion de servicios profesionales | G33: NOVIEMBRE | H33: 3 | I33: 0 | J33: 16500000 | K33: NO | L33: Sub. Logística | M33: Omer Mauricio Rivera Ruiz | N33: 8173-Modernización de las capacidades del Cuerpo Oficial de Bomberos Bogotá D.C. | O33: Subdirector@ de Gestión del Riesgo | P33: 1-100-I087 VA-Sobretasa Bomberil | Q33: 80111600 | R33: 8173 4-Desarrollar 3 estrategias para el fortalecimiento de la logistica en la atención de emergencias. | S33: =MID(PAA[[#This Row],[Meta Proyecto de Inversión]],1,4) -> 8173 | T33: =MID(PAA[[#This Row],[Meta Proyecto de Inversión]],6,2) -> 4- | U33: =IFERROR(VLOOKUP(N33,TD!$B$54:$F$58,2,0)," ") -> O230117 | V33: =IFERROR(VLOOKUP(N33,TD!$B$54:$F$58,3,0)," ") -> 4503 | W33: =IFERROR(VLOOKUP(N33,TD!$B$54:$F$58,4,0)," ") -> 20240255 | X33: 12 | Y33: =IFERROR(VLOOKUP(X33,TD!$J$55:$K$68,2,0)," ") -> Servicio de apoyo logístico en eventos operativos y/o emergencias. | Z33: =CONCATENATE(X33,"-",Y33) -> 12-Servicio de apoyo logístico en eventos operativos y/o emergencias. | AA33: 004 | AB33: =IFERROR(VLOOKUP(AA33,TD!$N$55:$O$70,2,0)," ") -> Servicio de atención a emergencias y desastres | AC33: =CONCATENATE(AA33,"_",AB33) -> 004_Servicio de atención a emergencias y desastres | AD33: =CONCATENATE(Z33," ",AC33) -> 12-Servicio de apoyo logístico en eventos operativos y/o emergencias. 004_Servicio de atención a emergencias y desastres | AE33: =CONCATENATE(U33,V33,W33,X33,AA33) -> O23011745032024025512004 | AF33: =IFERROR(VLOOKUP(AD33,TD!$J$70:$K$93,2,0)," ") -> PM/0131/0112/45030040255 | AG33: O232020200991191 Servicios administrativos relacionados con los trabajadores estatales | AH33: Si Secop | AI33: =CONCATENATE(PAA[[#This Row],[Id Interno]],"-",PAA[[#This Row],[tipo de Contrato (TH talento humano - B/S bienes y/o servicios)]],"-",S33,"-",T33,"-",PAA[[#This Row],[Objeto de la contratación]]) -> 20260958-TH-8173-4--Adición y Prorroga del Contrato 102 de 2026, cuyo objeto es "Prestar servicios profesionales de manera articulada en la gestión, seguimiento y control de los procedimientos, lineamientos ambientales y de SST de los procesos, así como del sistema de Gestión de Calidad para el desarrollo de las estrategías de la Subdirección Logística - SBGL."
B34: 20260960 | C34: Adición y Prorroga del Contrato 014 de 2026, cuyo objeto es "Prestación de servicios profesionales, para apoyar la estructuración y elaboración de los asuntos contractuales en sus diferentes etapas en la adquisicion de bienes y servicios para el desarrollo de las estrategías de la Subdirección Logística.- SBLG" | D34: 09 - contratación directa | E34: TH | F34: 25 - contrato de prestacion de servicios profesionales | G34: NOVIEMBRE | H34: 3 | I34: 15 | J34: 24000000 | K34: NO | L34: Sub. Logística | M34: Omer Mauricio Rivera Ruiz | N34: 8173-Modernización de las capacidades del Cuerpo Oficial de Bomberos Bogotá D.C. | O34: Subdirector@ de Gestión del Riesgo | P34: 1-100-I087 VA-Sobretasa Bomberil | Q34: 80111600 | R34: 8173 4-Desarrollar 3 estrategias para el fortalecimiento de la logistica en la atención de emergencias. | S34: =MID(PAA[[#This Row],[Meta Proyecto de Inversión]],1,4) -> 8173 | T34: =MID(PAA[[#This Row],[Meta Proyecto de Inversión]],6,2) -> 4- | U34: =IFERROR(VLOOKUP(N34,TD!$B$54:$F$58,2,0)," ") -> O230117 | V34: =IFERROR(VLOOKUP(N34,TD!$B$54:$F$58,3,0)," ") -> 4503 | W34: =IFERROR(VLOOKUP(N34,TD!$B$54:$F$58,4,0)," ") -> 20240255 | X34: 12 | Y34: =IFERROR(VLOOKUP(X34,TD!$J$55:$K$68,2,0)," ") -> Servicio de apoyo logístico en eventos operativos y/o emergencias. | Z34: =CONCATENATE(X34,"-",Y34) -> 12-Servicio de apoyo logístico en eventos operativos y/o emergencias. | AA34: 004 | AB34: =IFERROR(VLOOKUP(AA34,TD!$N$55:$O$70,2,0)," ") -> Servicio de atención a emergencias y desastres | AC34: =CONCATENATE(AA34,"_",AB34) -> 004_Servicio de atención a emergencias y desastres | AD34: =CONCATENATE(Z34," ",AC34) -> 12-Servicio de apoyo logístico en eventos operativos y/o emergencias. 004_Servicio de atención a emergencias y desastres | AE34: =CONCATENATE(U34,V34,W34,X34,AA34) -> O23011745032024025512004 | AF34: =IFERROR(VLOOKUP(AD34,TD!$J$70:$K$93,2,0)," ") -> PM/0131/0112/45030040255 | AG34: O232020200991191 Servicios administrativos relacionados con los trabajadores estatales | AH34: Si Secop | AI34: =CONCATENATE(PAA[[#This Row],[Id Interno]],"-",PAA[[#This Row],[tipo de Contrato (TH talento humano - B/S bienes y/o servicios)]],"-",S34,"-",T34,"-",PAA[[#This Row],[Objeto de la contratación]]) -> 20260960-TH-8173-4--Adición y Prorroga del Contrato 014 de 2026, cuyo objeto es "Prestación de servicios profesionales, para apoyar la estructuración y elaboración de los asuntos contractuales en sus diferentes etapas en la adquisicion de bienes y servicios para el desarrollo de las estrategías de la Subdirección Logística.- SBLG"
B35: 20260961 | C35: Adición y Prorroga del Contrato 055 de 2026, cuyo objeto es "Prestar servicios profesionales apoyando a la gestión, seguimiento y control administrativo, financiero y contractual de las actividades necesarias para garantizar los insumos y suministros, para la operación durante las emergencias, eventos y capacitaciones a cargo de la Subdirección Logística - SBLG." | D35: 09 - contratación directa | E35: TH | F35: 25 - contrato de prestacion de servicios profesionales | G35: NOVIEMBRE | H35: 3 | I35: 0 | J35: 27000000 | K35: NO | L35: Sub. Logística | M35: Omer Mauricio Rivera Ruiz | N35: 8173-Modernización de las capacidades del Cuerpo Oficial de Bomberos Bogotá D.C. | O35: Subdirector@ de Gestión del Riesgo | P35: 1-100-I087 VA-Sobretasa Bomberil | Q35: 80111600 | R35: 8173 4-Desarrollar 3 estrategias para el fortalecimiento de la logistica en la atención de emergencias. | S35: =MID(PAA[[#This Row],[Meta Proyecto de Inversión]],1,4) -> 8173 | T35: =MID(PAA[[#This Row],[Meta Proyecto de Inversión]],6,2) -> 4- | U35: =IFERROR(VLOOKUP(N35,TD!$B$54:$F$58,2,0)," ") -> O230117 | V35: =IFERROR(VLOOKUP(N35,TD!$B$54:$F$58,3,0)," ") -> 4503 | W35: =IFERROR(VLOOKUP(N35,TD!$B$54:$F$58,4,0)," ") -> 20240255 | X35: 12 | Y35: =IFERROR(VLOOKUP(X35,TD!$J$55:$K$68,2,0)," ") -> Servicio de apoyo logístico en eventos operativos y/o emergencias. | Z35: =CONCATENATE(X35,"-",Y35) -> 12-Servicio de apoyo logístico en eventos operativos y/o emergencias. | AA35: 004 | AB35: =IFERROR(VLOOKUP(AA35,TD!$N$55:$O$70,2,0)," ") -> Servicio de atención a emergencias y desastres | AC35: =CONCATENATE(AA35,"_",AB35) -> 004_Servicio de atención a emergencias y desastres | AD35: =CONCATENATE(Z35," ",AC35) -> 12-Servicio de apoyo logístico en eventos operativos y/o emergencias. 004_Servicio de atención a emergencias y desastres | AE35: =CONCATENATE(U35,V35,W35,X35,AA35) -> O23011745032024025512004 | AF35: =IFERROR(VLOOKUP(AD35,TD!$J$70:$K$93,2,0)," ") -> PM/0131/0112/45030040255 | AG35: O232020200991191 Servicios administrativos relacionados con los trabajadores estatales | AH35: Si Secop | AI35: =CONCATENATE(PAA[[#This Row],[Id Interno]],"-",PAA[[#This Row],[tipo de Contrato (TH talento humano - B/S bienes y/o servicios)]],"-",S35,"-",T35,"-",PAA[[#This Row],[Objeto de la contratación]]) -> 20260961-TH-8173-4--Adición y Prorroga del Contrato 055 de 2026, cuyo objeto es "Prestar servicios profesionales apoyando a la gestión, seguimiento y control administrativo, financiero y contractual de las actividades necesarias para garantizar los insumos y suministros, para la operación durante las emergencias, eventos y capacitaciones a cargo de la Subdirección Logística - SBLG."
